BEGIN:VCALENDAR
VERSION:2.0
PRODID:-//Goldgrube//myauktion.com//AT
CALSCALE:GREGORIAN
BEGIN:VEVENT
DTSTART:20260507T101600
DTEND:20260507T101630
LOCATION:Gewerbepark 13, 8562 Mooskirchen
DTSTAMP:20260423T192636
SUMMARY:MyAuktion: Ablauf Artikel Nr. 443220 Kugel ca. 40cm 
URL;VALUE=URI:https://www.myauktion.com/versteigerung7663-position2444626-kugel-ca-40cm.php
DESCRIPTION:Loch Durchmesser oben & unten ca. 3,5cm 
UID:myauktion-7663-2444626
BEGIN:VALARM
ACTION:DISPLAY
DESCRIPTION:Loch Durchmesser oben & unten ca. 3,5cm 
TRIGGER:-PT10M
END:VALARM
END:VEVENT
END:VCALENDAR