BEGIN:VCALENDAR
VERSION:2.0
PRODID:-//Goldgrube//myauktion.com//AT
CALSCALE:GREGORIAN
BEGIN:VEVENT
DTSTART:20260507T101700
DTEND:20260507T101730
LOCATION:Gewerbepark 13, 8562 Mooskirchen
DTSTAMP:20260423T205507
SUMMARY:MyAuktion: Ablauf Artikel Nr. 443221 Vans Knu Skool 
URL;VALUE=URI:https://www.myauktion.com/versteigerung7663-position2444628-vans-knu-skool.php
DESCRIPTION:Gr. 44 
UID:myauktion-7663-2444628
BEGIN:VALARM
ACTION:DISPLAY
DESCRIPTION:Gr. 44 
TRIGGER:-PT10M
END:VALARM
END:VEVENT
END:VCALENDAR