BEGIN:VCALENDAR
VERSION:2.0
PRODID:-//Goldgrube//myauktion.com//AT
CALSCALE:GREGORIAN
BEGIN:VEVENT
DTSTART:20260507T111800
DTEND:20260507T111830
LOCATION:Gewerbepark 13, 8562 Mooskirchen
DTSTAMP:20260424T045034
SUMMARY:MyAuktion: Ablauf Artikel Nr. 443555 Fensterversandtaschen 250 Stk Art.Nr: 3110 C4 229x324mm
URL;VALUE=URI:https://www.myauktion.com/versteigerung7663-position2444629-fensterversandtaschen-250-stk-artnr-3110-c4-229x324mm.php
DESCRIPTION:
UID:myauktion-7663-2444629
BEGIN:VALARM
ACTION:DISPLAY
DESCRIPTION:
TRIGGER:-PT10M
END:VALARM
END:VEVENT
END:VCALENDAR