BEGIN:VCALENDAR
VERSION:2.0
PRODID:-//Goldgrube//myauktion.com//AT
CALSCALE:GREGORIAN
BEGIN:VEVENT
DTSTART:20260507T101800
DTEND:20260507T101830
LOCATION:Gewerbepark 13, 8562 Mooskirchen
DTSTAMP:20260423T205505
SUMMARY:MyAuktion: Ablauf Artikel Nr. 443222 Good2nature Bio Box 456ml 80x95x60mm 150Stk 
URL;VALUE=URI:https://www.myauktion.com/versteigerung7663-position2444630-good2nature-bio-box-456ml-80x95x60mm-150stk.php
DESCRIPTION:
UID:myauktion-7663-2444630
BEGIN:VALARM
ACTION:DISPLAY
DESCRIPTION:
TRIGGER:-PT10M
END:VALARM
END:VEVENT
END:VCALENDAR