BEGIN:VCALENDAR
VERSION:2.0
PRODID:-//Goldgrube//myauktion.com//AT
CALSCALE:GREGORIAN
BEGIN:VEVENT
DTSTART:20260507T112000
DTEND:20260507T112030
LOCATION:Gewerbepark 13, 8562 Mooskirchen
DTSTAMP:20260423T205506
SUMMARY:MyAuktion: Ablauf Artikel Nr. 443557 Pocket Play Duck Coaster 
URL;VALUE=URI:https://www.myauktion.com/versteigerung7663-position2444632-pocket-play-duck-coaster.php
DESCRIPTION:
UID:myauktion-7663-2444632
BEGIN:VALARM
ACTION:DISPLAY
DESCRIPTION:
TRIGGER:-PT10M
END:VALARM
END:VEVENT
END:VCALENDAR