BEGIN:VCALENDAR
VERSION:2.0
PRODID:-//Goldgrube//myauktion.com//AT
CALSCALE:GREGORIAN
BEGIN:VEVENT
DTSTART:20260507T124100
DTEND:20260507T124130
LOCATION:Gewerbepark 13, 8562 Mooskirchen
DTSTAMP:20260423T205516
SUMMARY:MyAuktion: Ablauf Artikel Nr. 444161 Emma Matratze 90x200cm
URL;VALUE=URI:https://www.myauktion.com/versteigerung7663-position2444634-emma-matratze-90x200cm.php
DESCRIPTION:
UID:myauktion-7663-2444634
BEGIN:VALARM
ACTION:DISPLAY
DESCRIPTION:
TRIGGER:-PT10M
END:VALARM
END:VEVENT
END:VCALENDAR