BEGIN:VCALENDAR
VERSION:2.0
PRODID:-//Goldgrube//myauktion.com//AT
CALSCALE:GREGORIAN
BEGIN:VEVENT
DTSTART:20260507T112100
DTEND:20260507T112130
LOCATION:Gewerbepark 13, 8562 Mooskirchen
DTSTAMP:20260423T205506
SUMMARY:MyAuktion: Ablauf Artikel Nr. 443558 Jurassic World Reavenous Raptors the Dino Chomping Game 
URL;VALUE=URI:https://www.myauktion.com/versteigerung7663-position2444635-jurassic-world-reavenous-raptors-the-dino-chomping-game.php
DESCRIPTION:
UID:myauktion-7663-2444635
BEGIN:VALARM
ACTION:DISPLAY
DESCRIPTION:
TRIGGER:-PT10M
END:VALARM
END:VEVENT
END:VCALENDAR