BEGIN:VCALENDAR
VERSION:2.0
PRODID:-//Goldgrube//myauktion.com//AT
CALSCALE:GREGORIAN
BEGIN:VEVENT
DTSTART:20260507T102000
DTEND:20260507T102030
LOCATION:Gewerbepark 13, 8562 Mooskirchen
DTSTAMP:20260423T192639
SUMMARY:MyAuktion: Ablauf Artikel Nr. 443224 Maxxiva Hantel Gewichte 1x 2,5kg 1x 1,25kg 
URL;VALUE=URI:https://www.myauktion.com/versteigerung7663-position2444636-maxxiva-hantel-gewichte-1x-25kg-1x-125kg.php
DESCRIPTION:Loch Durchmesser 3cm 
UID:myauktion-7663-2444636
BEGIN:VALARM
ACTION:DISPLAY
DESCRIPTION:Loch Durchmesser 3cm 
TRIGGER:-PT10M
END:VALARM
END:VEVENT
END:VCALENDAR