BEGIN:VCALENDAR
VERSION:2.0
PRODID:-//Goldgrube//myauktion.com//AT
CALSCALE:GREGORIAN
BEGIN:VEVENT
DTSTART:20260507T102100
DTEND:20260507T102130
LOCATION:Gewerbepark 13, 8562 Mooskirchen
DTSTAMP:20260423T205505
SUMMARY:MyAuktion: Ablauf Artikel Nr. 443225 Fuxtec Akku FX-E1B2AH 
URL;VALUE=URI:https://www.myauktion.com/versteigerung7663-position2444637-fuxtec-akku-fx-e1b2ah.php
DESCRIPTION:
UID:myauktion-7663-2444637
BEGIN:VALARM
ACTION:DISPLAY
DESCRIPTION:
TRIGGER:-PT10M
END:VALARM
END:VEVENT
END:VCALENDAR