BEGIN:VCALENDAR
VERSION:2.0
PRODID:-//Goldgrube//myauktion.com//AT
CALSCALE:GREGORIAN
BEGIN:VEVENT
DTSTART:20260507T124200
DTEND:20260507T124230
LOCATION:Gewerbepark 13, 8562 Mooskirchen
DTSTAMP:20260423T192639
SUMMARY:MyAuktion: Ablauf Artikel Nr. 444162 Point Kameraeinheit  
URL;VALUE=URI:https://www.myauktion.com/versteigerung7663-position2444638-point-kameraeinheit.php
DESCRIPTION:
UID:myauktion-7663-2444638
BEGIN:VALARM
ACTION:DISPLAY
DESCRIPTION:
TRIGGER:-PT10M
END:VALARM
END:VEVENT
END:VCALENDAR