BEGIN:VCALENDAR
VERSION:2.0
PRODID:-//Goldgrube//myauktion.com//AT
CALSCALE:GREGORIAN
BEGIN:VEVENT
DTSTART:20260507T102200
DTEND:20260507T102230
LOCATION:Gewerbepark 13, 8562 Mooskirchen
DTSTAMP:20260423T205509
SUMMARY:MyAuktion: Ablauf Artikel Nr. 443226 BSS Sterile Irrigating Solution 500ml
URL;VALUE=URI:https://www.myauktion.com/versteigerung7663-position2444640-bss-sterile-irrigating-solution-500ml.php
DESCRIPTION:MHD 31.05.2028 
UID:myauktion-7663-2444640
BEGIN:VALARM
ACTION:DISPLAY
DESCRIPTION:MHD 31.05.2028 
TRIGGER:-PT10M
END:VALARM
END:VEVENT
END:VCALENDAR