BEGIN:VCALENDAR
VERSION:2.0
PRODID:-//Goldgrube//myauktion.com//AT
CALSCALE:GREGORIAN
BEGIN:VEVENT
DTSTART:20260507T120100
DTEND:20260507T120130
LOCATION:Gewerbepark 13, 8562 Mooskirchen
DTSTAMP:20260423T205520
SUMMARY:MyAuktion: Ablauf Artikel Nr. 443735 Samsung Crystal UHD U8000F, ca 100x90cm
URL;VALUE=URI:https://www.myauktion.com/versteigerung7663-position2444641-samsung-crystal-uhd-u8000f-ca-100x90cm.php
DESCRIPTION:
UID:myauktion-7663-2444641
BEGIN:VALARM
ACTION:DISPLAY
DESCRIPTION:
TRIGGER:-PT10M
END:VALARM
END:VEVENT
END:VCALENDAR