BEGIN:VCALENDAR
VERSION:2.0
PRODID:-//Goldgrube//myauktion.com//AT
CALSCALE:GREGORIAN
BEGIN:VEVENT
DTSTART:20260507T124300
DTEND:20260507T124330
LOCATION:Gewerbepark 13, 8562 Mooskirchen
DTSTAMP:20260423T205508
SUMMARY:MyAuktion: Ablauf Artikel Nr. 444163 Dezent TTRF8SA38 TR Silver 7.50JX18H2 112.0x5 18" 
URL;VALUE=URI:https://www.myauktion.com/versteigerung7663-position2444642-dezent-ttrf8sa38-tr-silver-750jx18h2-1120x5-18-34.php
DESCRIPTION:
UID:myauktion-7663-2444642
BEGIN:VALARM
ACTION:DISPLAY
DESCRIPTION:
TRIGGER:-PT10M
END:VALARM
END:VEVENT
END:VCALENDAR