BEGIN:VCALENDAR
VERSION:2.0
PRODID:-//Goldgrube//myauktion.com//AT
CALSCALE:GREGORIAN
BEGIN:VEVENT
DTSTART:20260507T120200
DTEND:20260507T120230
LOCATION:Gewerbepark 13, 8562 Mooskirchen
DTSTAMP:20260423T205522
SUMMARY:MyAuktion: Ablauf Artikel Nr. 443736 B-Mobile Germany Powerbank (2600 mAh), Art.No. 34593
URL;VALUE=URI:https://www.myauktion.com/versteigerung7663-position2444643-b-mobile-germany-powerbank-2600-mah-artno-34593.php
DESCRIPTION:Verpackung Beschädigt
UID:myauktion-7663-2444643
BEGIN:VALARM
ACTION:DISPLAY
DESCRIPTION:Verpackung Beschädigt
TRIGGER:-PT10M
END:VALARM
END:VEVENT
END:VCALENDAR