BEGIN:VCALENDAR
VERSION:2.0
PRODID:-//Goldgrube//myauktion.com//AT
CALSCALE:GREGORIAN
BEGIN:VEVENT
DTSTART:20260507T124400
DTEND:20260507T124430
LOCATION:Gewerbepark 13, 8562 Mooskirchen
DTSTAMP:20260423T205510
SUMMARY:MyAuktion: Ablauf Artikel Nr. 444164 Colchon Dream Repair 200x180 
URL;VALUE=URI:https://www.myauktion.com/versteigerung7663-position2444644-colchon-dream-repair-200x180.php
DESCRIPTION:
UID:myauktion-7663-2444644
BEGIN:VALARM
ACTION:DISPLAY
DESCRIPTION:
TRIGGER:-PT10M
END:VALARM
END:VEVENT
END:VCALENDAR