BEGIN:VCALENDAR
VERSION:2.0
PRODID:-//Goldgrube//myauktion.com//AT
CALSCALE:GREGORIAN
BEGIN:VEVENT
DTSTART:20260507T124500
DTEND:20260507T124530
LOCATION:Gewerbepark 13, 8562 Mooskirchen
DTSTAMP:20260423T205509
SUMMARY:MyAuktion: Ablauf Artikel Nr. 444165 I-tech USB C Display Port 150cm 8K
URL;VALUE=URI:https://www.myauktion.com/versteigerung7663-position2444645-i-tech-usb-c-display-port-150cm-8k.php
DESCRIPTION:
UID:myauktion-7663-2444645
BEGIN:VALARM
ACTION:DISPLAY
DESCRIPTION:
TRIGGER:-PT10M
END:VALARM
END:VEVENT
END:VCALENDAR