BEGIN:VCALENDAR
VERSION:2.0
PRODID:-//Goldgrube//myauktion.com//AT
CALSCALE:GREGORIAN
BEGIN:VEVENT
DTSTART:20260507T124600
DTEND:20260507T124630
LOCATION:Gewerbepark 13, 8562 Mooskirchen
DTSTAMP:20260423T205519
SUMMARY:MyAuktion: Ablauf Artikel Nr. 444166 Samsonite Koffer 
URL;VALUE=URI:https://www.myauktion.com/versteigerung7663-position2444648-samsonite-koffer.php
DESCRIPTION:Ca. 46x68cm . Gebraucht!  
UID:myauktion-7663-2444648
BEGIN:VALARM
ACTION:DISPLAY
DESCRIPTION:Ca. 46x68cm . Gebraucht!  
TRIGGER:-PT10M
END:VALARM
END:VEVENT
END:VCALENDAR