BEGIN:VCALENDAR
VERSION:2.0
PRODID:-//Goldgrube//myauktion.com//AT
CALSCALE:GREGORIAN
BEGIN:VEVENT
DTSTART:20260507T120300
DTEND:20260507T120330
LOCATION:Gewerbepark 13, 8562 Mooskirchen
DTSTAMP:20260423T205506
SUMMARY:MyAuktion: Ablauf Artikel Nr. 443737 Snail-Lock Diamant Polier Scheibe ca 13cm durchmesser
URL;VALUE=URI:https://www.myauktion.com/versteigerung7663-position2444649-snail-lock-diamant-polier-scheibe-ca-13cm-durchmesser.php
DESCRIPTION:
UID:myauktion-7663-2444649
BEGIN:VALARM
ACTION:DISPLAY
DESCRIPTION:
TRIGGER:-PT10M
END:VALARM
END:VEVENT
END:VCALENDAR