BEGIN:VCALENDAR
VERSION:2.0
PRODID:-//Goldgrube//myauktion.com//AT
CALSCALE:GREGORIAN
BEGIN:VEVENT
DTSTART:20260507T120400
DTEND:20260507T120430
LOCATION:Gewerbepark 13, 8562 Mooskirchen
DTSTAMP:20260423T192637
SUMMARY:MyAuktion: Ablauf Artikel Nr. 443738 Häfele Möbelgriff Art.-Nr. 155.01.344, 234×35mm
URL;VALUE=URI:https://www.myauktion.com/versteigerung7663-position2444651-haefele-moebelgriff-art-nr-15501344-23435mm.php
DESCRIPTION:
UID:myauktion-7663-2444651
BEGIN:VALARM
ACTION:DISPLAY
DESCRIPTION:
TRIGGER:-PT10M
END:VALARM
END:VEVENT
END:VCALENDAR