BEGIN:VCALENDAR
VERSION:2.0
PRODID:-//Goldgrube//myauktion.com//AT
CALSCALE:GREGORIAN
BEGIN:VEVENT
DTSTART:20260507T120500
DTEND:20260507T120530
LOCATION:Gewerbepark 13, 8562 Mooskirchen
DTSTAMP:20260423T205522
SUMMARY:MyAuktion: Ablauf Artikel Nr. 443739 Kodak LED Kopflampe inklusive 3 Batterien, 
URL;VALUE=URI:https://www.myauktion.com/versteigerung7663-position2444652-kodak-led-kopflampe-inklusive-3-batterien.php
DESCRIPTION:
UID:myauktion-7663-2444652
BEGIN:VALARM
ACTION:DISPLAY
DESCRIPTION:
TRIGGER:-PT10M
END:VALARM
END:VEVENT
END:VCALENDAR