BEGIN:VCALENDAR
VERSION:2.0
PRODID:-//Goldgrube//myauktion.com//AT
CALSCALE:GREGORIAN
BEGIN:VEVENT
DTSTART:20260507T112600
DTEND:20260507T112630
LOCATION:Gewerbepark 13, 8562 Mooskirchen
DTSTAMP:20260423T205513
SUMMARY:MyAuktion: Ablauf Artikel Nr. 443562 Sola Messwerkzeug AZB 20cm 
URL;VALUE=URI:https://www.myauktion.com/versteigerung7663-position2444653-sola-messwerkzeug-azb-20cm.php
DESCRIPTION:
UID:myauktion-7663-2444653
BEGIN:VALARM
ACTION:DISPLAY
DESCRIPTION:
TRIGGER:-PT10M
END:VALARM
END:VEVENT
END:VCALENDAR