BEGIN:VCALENDAR
VERSION:2.0
PRODID:-//Goldgrube//myauktion.com//AT
CALSCALE:GREGORIAN
BEGIN:VEVENT
DTSTART:20260507T120600
DTEND:20260507T120630
LOCATION:Gewerbepark 13, 8562 Mooskirchen
DTSTAMP:20260423T192638
SUMMARY:MyAuktion: Ablauf Artikel Nr. 443740 Danfoss Aero RA/V 34mm, Art.No. 015G4560
URL;VALUE=URI:https://www.myauktion.com/versteigerung7663-position2444654-danfoss-aero-ra-v-34mm-artno-015g4560.php
DESCRIPTION:
UID:myauktion-7663-2444654
BEGIN:VALARM
ACTION:DISPLAY
DESCRIPTION:
TRIGGER:-PT10M
END:VALARM
END:VEVENT
END:VCALENDAR