BEGIN:VCALENDAR
VERSION:2.0
PRODID:-//Goldgrube//myauktion.com//AT
CALSCALE:GREGORIAN
BEGIN:VEVENT
DTSTART:20260507T120700
DTEND:20260507T120730
LOCATION:Gewerbepark 13, 8562 Mooskirchen
DTSTAMP:20260423T205522
SUMMARY:MyAuktion: Ablauf Artikel Nr. 443741 Zylinderkopfschraube ca 52cm lang
URL;VALUE=URI:https://www.myauktion.com/versteigerung7663-position2444656-zylinderkopfschraube-ca-52cm-lang.php
DESCRIPTION:
UID:myauktion-7663-2444656
BEGIN:VALARM
ACTION:DISPLAY
DESCRIPTION:
TRIGGER:-PT10M
END:VALARM
END:VEVENT
END:VCALENDAR