BEGIN:VCALENDAR
VERSION:2.0
PRODID:-//Goldgrube//myauktion.com//AT
CALSCALE:GREGORIAN
BEGIN:VEVENT
DTSTART:20260507T095500
DTEND:20260507T095530
LOCATION:Gewerbepark 13, 8562 Mooskirchen
DTSTAMP:20260423T141427
SUMMARY:MyAuktion: Ablauf Artikel Nr. 443205 Nopi Universal Klebeband braun 6Rollen 66m 50mm 
URL;VALUE=URI:https://www.myauktion.com/versteigerung7663-position2444669-nopi-universal-klebeband-braun-6rollen-66m-50mm.php
DESCRIPTION:
UID:myauktion-7663-2444669
BEGIN:VALARM
ACTION:DISPLAY
DESCRIPTION:
TRIGGER:-PT10M
END:VALARM
END:VEVENT
END:VCALENDAR