BEGIN:VCALENDAR
VERSION:2.0
PRODID:-//Goldgrube//myauktion.com//AT
CALSCALE:GREGORIAN
BEGIN:VEVENT
DTSTART:20260507T100000
DTEND:20260507T100030
LOCATION:Gewerbepark 13, 8562 Mooskirchen
DTSTAMP:20260423T151122
SUMMARY:MyAuktion: Ablauf Artikel Nr. 443210 Fenster Pflanzregale dursichtig ca. 30x12cm 
URL;VALUE=URI:https://www.myauktion.com/versteigerung7663-position2444671-fenster-pflanzregale-dursichtig-ca-30x12cm.php
DESCRIPTION:
UID:myauktion-7663-2444671
BEGIN:VALARM
ACTION:DISPLAY
DESCRIPTION:
TRIGGER:-PT10M
END:VALARM
END:VEVENT
END:VCALENDAR