BEGIN:VCALENDAR
VERSION:2.0
PRODID:-//Goldgrube//myauktion.com//AT
CALSCALE:GREGORIAN
BEGIN:VEVENT
DTSTART:20260507T101000
DTEND:20260507T101030
LOCATION:Gewerbepark 13, 8562 Mooskirchen
DTSTAMP:20260423T205506
SUMMARY:MyAuktion: Ablauf Artikel Nr. 443214 Color G Fussmatte dunkelgrau ca. 75x45cm 
URL;VALUE=URI:https://www.myauktion.com/versteigerung7663-position2444674-color-g-fussmatte-dunkelgrau-ca-75x45cm.php
DESCRIPTION:
UID:myauktion-7663-2444674
BEGIN:VALARM
ACTION:DISPLAY
DESCRIPTION:
TRIGGER:-PT10M
END:VALARM
END:VEVENT
END:VCALENDAR