BEGIN:VCALENDAR
VERSION:2.0
PRODID:-//Goldgrube//myauktion.com//AT
CALSCALE:GREGORIAN
BEGIN:VEVENT
DTSTART:20260507T111500
DTEND:20260507T111530
LOCATION:Gewerbepark 13, 8562 Mooskirchen
DTSTAMP:20260423T205512
SUMMARY:MyAuktion: Ablauf Artikel Nr. 443552 Salinyang brown pu Größe 37 DES658P
URL;VALUE=URI:https://www.myauktion.com/versteigerung7663-position2444679-salinyang-brown-pu-groesse-37-des658p.php
DESCRIPTION:
UID:myauktion-7663-2444679
BEGIN:VALARM
ACTION:DISPLAY
DESCRIPTION:
TRIGGER:-PT10M
END:VALARM
END:VEVENT
END:VCALENDAR