BEGIN:VCALENDAR
VERSION:2.0
PRODID:-//Goldgrube//myauktion.com//AT
CALSCALE:GREGORIAN
BEGIN:VEVENT
DTSTART:20260507T090900
DTEND:20260507T090930
LOCATION:Gewerbepark 13, 8562 Mooskirchen
DTSTAMP:20260423T151133
SUMMARY:MyAuktion: Ablauf Artikel Nr. 443170 Autotest 658853860 Auto Zubehör 
URL;VALUE=URI:https://www.myauktion.com/versteigerung7663-position2444682-autotest-658853860-auto-zubehoer.php
DESCRIPTION:Keine weiteren Daten ersichtlich
UID:myauktion-7663-2444682
BEGIN:VALARM
ACTION:DISPLAY
DESCRIPTION:Keine weiteren Daten ersichtlich
TRIGGER:-PT10M
END:VALARM
END:VEVENT
END:VCALENDAR