BEGIN:VCALENDAR
VERSION:2.0
PRODID:-//Goldgrube//myauktion.com//AT
CALSCALE:GREGORIAN
BEGIN:VEVENT
DTSTART:20260507T093600
DTEND:20260507T093630
LOCATION:Gewerbepark 13, 8562 Mooskirchen
DTSTAMP:20260423T151109
SUMMARY:MyAuktion: Ablauf Artikel Nr. 443192 Würth Sperrzahnmuttern SW10 ähnl. DiN 6923-8 M6 100Stk 
URL;VALUE=URI:https://www.myauktion.com/versteigerung7663-position2444687-wuerth-sperrzahnmuttern-sw10-aehnl-din-6923-8-m6-100stk.php
DESCRIPTION:
UID:myauktion-7663-2444687
BEGIN:VALARM
ACTION:DISPLAY
DESCRIPTION:
TRIGGER:-PT10M
END:VALARM
END:VEVENT
END:VCALENDAR