BEGIN:VCALENDAR
VERSION:2.0
PRODID:-//Goldgrube//myauktion.com//AT
CALSCALE:GREGORIAN
BEGIN:VEVENT
DTSTART:20260507T104700
DTEND:20260507T104730
LOCATION:Gewerbepark 13, 8562 Mooskirchen
DTSTAMP:20260423T205506
SUMMARY:MyAuktion: Ablauf Artikel Nr. 443533 Gühring VHM Ratiofräser DIN 6527L R-RF1 
URL;VALUE=URI:https://www.myauktion.com/versteigerung7663-position2444688-guehring-vhm-ratiofraeser-din-6527l-r-rf1.php
DESCRIPTION:
UID:myauktion-7663-2444688
BEGIN:VALARM
ACTION:DISPLAY
DESCRIPTION:
TRIGGER:-PT10M
END:VALARM
END:VEVENT
END:VCALENDAR