BEGIN:VCALENDAR
VERSION:2.0
PRODID:-//Goldgrube//myauktion.com//AT
CALSCALE:GREGORIAN
BEGIN:VEVENT
DTSTART:20260507T100500
DTEND:20260507T100530
LOCATION:Gewerbepark 13, 8562 Mooskirchen
DTSTAMP:20260423T205516
SUMMARY:MyAuktion: Ablauf Artikel Nr. 443213 Color G Fussmatte ca. 75x45cm schwarz 
URL;VALUE=URI:https://www.myauktion.com/versteigerung7663-position2444693-color-g-fussmatte-ca-75x45cm-schwarz.php
DESCRIPTION:
UID:myauktion-7663-2444693
BEGIN:VALARM
ACTION:DISPLAY
DESCRIPTION:
TRIGGER:-PT10M
END:VALARM
END:VEVENT
END:VCALENDAR