BEGIN:VCALENDAR
VERSION:2.0
PRODID:-//Goldgrube//myauktion.com//AT
CALSCALE:GREGORIAN
BEGIN:VEVENT
DTSTART:20260507T110500
DTEND:20260507T110530
LOCATION:Gewerbepark 13, 8562 Mooskirchen
DTSTAMP:20260423T192635
SUMMARY:MyAuktion: Ablauf Artikel Nr. 443548 Salinyang brown pu Größe 39 DES658P
URL;VALUE=URI:https://www.myauktion.com/versteigerung7663-position2444694-salinyang-brown-pu-groesse-39-des658p.php
DESCRIPTION:
UID:myauktion-7663-2444694
BEGIN:VALARM
ACTION:DISPLAY
DESCRIPTION:
TRIGGER:-PT10M
END:VALARM
END:VEVENT
END:VCALENDAR