BEGIN:VCALENDAR
VERSION:2.0
PRODID:-//Goldgrube//myauktion.com//AT
CALSCALE:GREGORIAN
BEGIN:VEVENT
DTSTART:20260507T111300
DTEND:20260507T111330
LOCATION:Gewerbepark 13, 8562 Mooskirchen
DTSTAMP:20260423T205515
SUMMARY:MyAuktion: Ablauf Artikel Nr. 443551 Salinyang brown pu Größe 38 DES658P
URL;VALUE=URI:https://www.myauktion.com/versteigerung7663-position2444698-salinyang-brown-pu-groesse-38-des658p.php
DESCRIPTION:
UID:myauktion-7663-2444698
BEGIN:VALARM
ACTION:DISPLAY
DESCRIPTION:
TRIGGER:-PT10M
END:VALARM
END:VEVENT
END:VCALENDAR