BEGIN:VCALENDAR
VERSION:2.0
PRODID:-//Goldgrube//myauktion.com//AT
CALSCALE:GREGORIAN
BEGIN:VEVENT
DTSTART:20260508T130200
DTEND:20260508T130230
LOCATION:Gewerbepark 13, 8562 Mooskirchen
DTSTAMP:20260424T135657
SUMMARY:MyAuktion: Ablauf Artikel Nr. 957636 Bio Hafer Drink Natur 8x1l 
URL;VALUE=URI:https://www.myauktion.com/versteigerung7668-position2444975-bio-hafer-drink-natur-8x1l.php
DESCRIPTION:Mhd 13.06.36
UID:myauktion-7668-2444975
BEGIN:VALARM
ACTION:DISPLAY
DESCRIPTION:Mhd 13.06.36
TRIGGER:-PT10M
END:VALARM
END:VEVENT
END:VCALENDAR