BEGIN:VCALENDAR
VERSION:2.0
PRODID:-//Goldgrube//myauktion.com//AT
CALSCALE:GREGORIAN
BEGIN:VEVENT
DTSTART:20260508T142600
DTEND:20260508T142630
LOCATION:Gewerbepark 13, 8562 Mooskirchen
DTSTAMP:20260424T222211
SUMMARY:MyAuktion: Ablauf Artikel Nr. 958065 Prozis 100% Real Whey Protein 1000g
URL;VALUE=URI:https://www.myauktion.com/versteigerung7668-position2444976-prozis-100-real-whey-protein-1000g.php
DESCRIPTION:MHD 07.2026 
UID:myauktion-7668-2444976
BEGIN:VALARM
ACTION:DISPLAY
DESCRIPTION:MHD 07.2026 
TRIGGER:-PT10M
END:VALARM
END:VEVENT
END:VCALENDAR