BEGIN:VCALENDAR
VERSION:2.0
PRODID:-//Goldgrube//myauktion.com//AT
CALSCALE:GREGORIAN
BEGIN:VEVENT
DTSTART:20260508T143000
DTEND:20260508T143030
LOCATION:Gewerbepark 13, 8562 Mooskirchen
DTSTAMP:20260424T222213
SUMMARY:MyAuktion: Ablauf Artikel Nr. 958067 Prozis Protein Choco Crisp Peanut Butter 250g
URL;VALUE=URI:https://www.myauktion.com/versteigerung7668-position2444978-prozis-protein-choco-crisp-peanut-butter-250g.php
DESCRIPTION:MHD 07.2026 
UID:myauktion-7668-2444978
BEGIN:VALARM
ACTION:DISPLAY
DESCRIPTION:MHD 07.2026 
TRIGGER:-PT10M
END:VALARM
END:VEVENT
END:VCALENDAR