BEGIN:VCALENDAR
VERSION:2.0
PRODID:-//Goldgrube//myauktion.com//AT
CALSCALE:GREGORIAN
BEGIN:VEVENT
DTSTART:20260508T132100
DTEND:20260508T132130
LOCATION:Gewerbepark 13, 8562 Mooskirchen
DTSTAMP:20260424T135657
SUMMARY:MyAuktion: Ablauf Artikel Nr. 957935 DM BIO Mandelmus und Mandel Tonka Cream 2x250g
URL;VALUE=URI:https://www.myauktion.com/versteigerung7668-position2444979-dm-bio-mandelmus-und-mandel-tonka-cream-2x250g.php
DESCRIPTION:21/07/26
UID:myauktion-7668-2444979
BEGIN:VALARM
ACTION:DISPLAY
DESCRIPTION:21/07/26
TRIGGER:-PT10M
END:VALARM
END:VEVENT
END:VCALENDAR