BEGIN:VCALENDAR
VERSION:2.0
PRODID:-//Goldgrube//myauktion.com//AT
CALSCALE:GREGORIAN
BEGIN:VEVENT
DTSTART:20260508T143100
DTEND:20260508T143130
LOCATION:Gewerbepark 13, 8562 Mooskirchen
DTSTAMP:20260424T222211
SUMMARY:MyAuktion: Ablauf Artikel Nr. 958068 Prozis Zero Barbecue flavoured Sauce 355g
URL;VALUE=URI:https://www.myauktion.com/versteigerung7668-position2444980-prozis-zero-barbecue-flavoured-sauce-355g.php
DESCRIPTION:MHD 01.2027 
UID:myauktion-7668-2444980
BEGIN:VALARM
ACTION:DISPLAY
DESCRIPTION:MHD 01.2027 
TRIGGER:-PT10M
END:VALARM
END:VEVENT
END:VCALENDAR