BEGIN:VCALENDAR
VERSION:2.0
PRODID:-//Goldgrube//myauktion.com//AT
CALSCALE:GREGORIAN
BEGIN:VEVENT
DTSTART:20260508T143200
DTEND:20260508T143230
LOCATION:Gewerbepark 13, 8562 Mooskirchen
DTSTAMP:20260424T222209
SUMMARY:MyAuktion: Ablauf Artikel Nr. 958069 Prozis EAA Essential Amino Acids Cola Flavor 330g
URL;VALUE=URI:https://www.myauktion.com/versteigerung7668-position2444981-prozis-eaa-essential-amino-acids-cola-flavor-330g.php
DESCRIPTION:MHD 11.2026 
UID:myauktion-7668-2444981
BEGIN:VALARM
ACTION:DISPLAY
DESCRIPTION:MHD 11.2026 
TRIGGER:-PT10M
END:VALARM
END:VEVENT
END:VCALENDAR