BEGIN:VCALENDAR
VERSION:2.0
PRODID:-//Goldgrube//myauktion.com//AT
CALSCALE:GREGORIAN
BEGIN:VEVENT
DTSTART:20260508T143300
DTEND:20260508T143330
LOCATION:Gewerbepark 13, 8562 Mooskirchen
DTSTAMP:20260424T222217
SUMMARY:MyAuktion: Ablauf Artikel Nr. 958070 Prozis Creatine Creapure unflavored 150g
URL;VALUE=URI:https://www.myauktion.com/versteigerung7668-position2444982-prozis-creatine-creapure-unflavored-150g.php
DESCRIPTION:MHD 11.2026 
UID:myauktion-7668-2444982
BEGIN:VALARM
ACTION:DISPLAY
DESCRIPTION:MHD 11.2026 
TRIGGER:-PT10M
END:VALARM
END:VEVENT
END:VCALENDAR