BEGIN:VCALENDAR
VERSION:2.0
PRODID:-//Goldgrube//myauktion.com//AT
CALSCALE:GREGORIAN
BEGIN:VEVENT
DTSTART:20260508T143400
DTEND:20260508T143430
LOCATION:Gewerbepark 13, 8562 Mooskirchen
DTSTAMP:20260424T222211
SUMMARY:MyAuktion: Ablauf Artikel Nr. 958071 Prozis Oat Flakes 1000g
URL;VALUE=URI:https://www.myauktion.com/versteigerung7668-position2444983-prozis-oat-flakes-1000g.php
DESCRIPTION:MHD 07.2026 
UID:myauktion-7668-2444983
BEGIN:VALARM
ACTION:DISPLAY
DESCRIPTION:MHD 07.2026 
TRIGGER:-PT10M
END:VALARM
END:VEVENT
END:VCALENDAR