BEGIN:VCALENDAR
VERSION:2.0
PRODID:-//Goldgrube//myauktion.com//AT
CALSCALE:GREGORIAN
BEGIN:VEVENT
DTSTART:20260508T143500
DTEND:20260508T143530
LOCATION:Gewerbepark 13, 8562 Mooskirchen
DTSTAMP:20260424T222210
SUMMARY:MyAuktion: Ablauf Artikel Nr. 958072 MyProtein Impact Whey Protein unflavoured 2,5kg 
URL;VALUE=URI:https://www.myauktion.com/versteigerung7668-position2444984-myprotein-impact-whey-protein-unflavoured-25kg.php
DESCRIPTION:MHD 03.2027 
UID:myauktion-7668-2444984
BEGIN:VALARM
ACTION:DISPLAY
DESCRIPTION:MHD 03.2027 
TRIGGER:-PT10M
END:VALARM
END:VEVENT
END:VCALENDAR