BEGIN:VCALENDAR
VERSION:2.0
PRODID:-//Goldgrube//myauktion.com//AT
CALSCALE:GREGORIAN
BEGIN:VEVENT
DTSTART:20260508T132200
DTEND:20260508T132230
LOCATION:Gewerbepark 13, 8562 Mooskirchen
DTSTAMP:20260424T135657
SUMMARY:MyAuktion: Ablauf Artikel Nr. 957936 Diverse Scharfe Saucen 
URL;VALUE=URI:https://www.myauktion.com/versteigerung7668-position2444985-diverse-scharfe-saucen.php
DESCRIPTION:MHD: 07/27
UID:myauktion-7668-2444985
BEGIN:VALARM
ACTION:DISPLAY
DESCRIPTION:MHD: 07/27
TRIGGER:-PT10M
END:VALARM
END:VEVENT
END:VCALENDAR