BEGIN:VCALENDAR
VERSION:2.0
PRODID:-//Goldgrube//myauktion.com//AT
CALSCALE:GREGORIAN
BEGIN:VEVENT
DTSTART:20260508T143600
DTEND:20260508T143630
LOCATION:Gewerbepark 13, 8562 Mooskirchen
DTSTAMP:20260425T015246
SUMMARY:MyAuktion: Ablauf Artikel Nr. 958073 Lor Espresso Kapseln Lungo 50Stk 
URL;VALUE=URI:https://www.myauktion.com/versteigerung7668-position2444986-lor-espresso-kapseln-lungo-50stk.php
DESCRIPTION:MHD 05.07.2026 
UID:myauktion-7668-2444986
BEGIN:VALARM
ACTION:DISPLAY
DESCRIPTION:MHD 05.07.2026 
TRIGGER:-PT10M
END:VALARM
END:VEVENT
END:VCALENDAR