BEGIN:VCALENDAR
VERSION:2.0
PRODID:-//Goldgrube//myauktion.com//AT
CALSCALE:GREGORIAN
BEGIN:VEVENT
DTSTART:20260508T144400
DTEND:20260508T144430
LOCATION:Gewerbepark 13, 8562 Mooskirchen
DTSTAMP:20260424T160251
SUMMARY:MyAuktion: Ablauf Artikel Nr. 958076 Verival Protein Müsli Adventskalender 
URL;VALUE=URI:https://www.myauktion.com/versteigerung7668-position2444990-verival-protein-muesli-adventskalender.php
DESCRIPTION:MHD teils abgelaufen / teils noch haltbar 
UID:myauktion-7668-2444990
BEGIN:VALARM
ACTION:DISPLAY
DESCRIPTION:MHD teils abgelaufen / teils noch haltbar 
TRIGGER:-PT10M
END:VALARM
END:VEVENT
END:VCALENDAR