BEGIN:VCALENDAR
VERSION:2.0
PRODID:-//Goldgrube//myauktion.com//AT
CALSCALE:GREGORIAN
BEGIN:VEVENT
DTSTART:20260508T133300
DTEND:20260508T133330
LOCATION:Gewerbepark 13, 8562 Mooskirchen
DTSTAMP:20260424T150436
SUMMARY:MyAuktion: Ablauf Artikel Nr. 957940 Steirisches Kürbiskernöl g.g.A Familie Orthofer 2x250ml 
URL;VALUE=URI:https://www.myauktion.com/versteigerung7668-position2444992-steirisches-kuerbiskernoel-gga-familie-orthofer-2x250ml.php
DESCRIPTION:MHD: 30/08/26
UID:myauktion-7668-2444992
BEGIN:VALARM
ACTION:DISPLAY
DESCRIPTION:MHD: 30/08/26
TRIGGER:-PT10M
END:VALARM
END:VEVENT
END:VCALENDAR