BEGIN:VCALENDAR
VERSION:2.0
PRODID:-//Goldgrube//myauktion.com//AT
CALSCALE:GREGORIAN
BEGIN:VEVENT
DTSTART:20260508T133400
DTEND:20260508T133430
LOCATION:Gewerbepark 13, 8562 Mooskirchen
DTSTAMP:20260425T015252
SUMMARY:MyAuktion: Ablauf Artikel Nr. 957941 SCHWARZ Schwarz Rot Zweigelt  1,5l
URL;VALUE=URI:https://www.myauktion.com/versteigerung7668-position2444994-schwarz-schwarz-rot-zweigelt-15l.php
DESCRIPTION:<div>Jahrgang 2021</div>
UID:myauktion-7668-2444994
BEGIN:VALARM
ACTION:DISPLAY
DESCRIPTION:<div>Jahrgang 2021</div>
TRIGGER:-PT10M
END:VALARM
END:VEVENT
END:VCALENDAR