BEGIN:VCALENDAR
VERSION:2.0
PRODID:-//Goldgrube//myauktion.com//AT
CALSCALE:GREGORIAN
BEGIN:VEVENT
DTSTART:20260508T133500
DTEND:20260508T133530
LOCATION:Gewerbepark 13, 8562 Mooskirchen
DTSTAMP:20260425T015259
SUMMARY:MyAuktion: Ablauf Artikel Nr. 957942 Louis Roederer Champagne Collection 244 1,5l 
URL;VALUE=URI:https://www.myauktion.com/versteigerung7668-position2444995-louis-roederer-champagne-collection-244-15l.php
DESCRIPTION:Jahrgang: 2019
UID:myauktion-7668-2444995
BEGIN:VALARM
ACTION:DISPLAY
DESCRIPTION:Jahrgang: 2019
TRIGGER:-PT10M
END:VALARM
END:VEVENT
END:VCALENDAR