BEGIN:VCALENDAR
VERSION:2.0
PRODID:-//Goldgrube//myauktion.com//AT
CALSCALE:GREGORIAN
BEGIN:VEVENT
DTSTART:20260508T130100
DTEND:20260508T130130
LOCATION:Gewerbepark 13, 8562 Mooskirchen
DTSTAMP:20260425T015259
SUMMARY:MyAuktion: Ablauf Artikel Nr. 947657 KoRo Schokohappen 750g 
URL;VALUE=URI:https://www.myauktion.com/versteigerung7668-position2444997-koro-schokohappen-750g.php
DESCRIPTION:Mhd 31.07 26
UID:myauktion-7668-2444997
BEGIN:VALARM
ACTION:DISPLAY
DESCRIPTION:Mhd 31.07 26
TRIGGER:-PT10M
END:VALARM
END:VEVENT
END:VCALENDAR