BEGIN:VCALENDAR
VERSION:2.0
PRODID:-//Goldgrube//myauktion.com//AT
CALSCALE:GREGORIAN
BEGIN:VEVENT
DTSTART:20260508T133600
DTEND:20260508T133630
LOCATION:Gewerbepark 13, 8562 Mooskirchen
DTSTAMP:20260424T135656
SUMMARY:MyAuktion: Ablauf Artikel Nr. 957943 Tenuta il Poggione Brunello di Monatalcino DOCG 1,5l 
URL;VALUE=URI:https://www.myauktion.com/versteigerung7668-position2444999-tenuta-il-poggione-brunello-di-monatalcino-docg-15l.php
DESCRIPTION:Jahrgang 2020 
UID:myauktion-7668-2444999
BEGIN:VALARM
ACTION:DISPLAY
DESCRIPTION:Jahrgang 2020 
TRIGGER:-PT10M
END:VALARM
END:VEVENT
END:VCALENDAR